BEGIN:VCALENDAR
VERSION:2.0
PRODID:-//InvisionCommunity Events 4.7.10//EN
METHOD:PUBLISH
CALSCALE:GREGORIAN
REFRESH-INTERVAL:PT15M
X-PUBLISHED-TTL:PT15M
X-WR-CALNAME:ChaoticUnited&#039;s Calendar
NAME:ChaoticUnited&#039;s Calendar
BEGIN:VTIMEZONE
TZID:Europe/London
TZURL:http://tzurl.org/zoneinfo/Europe/London
X-LIC-LOCATION:Europe/London
BEGIN:DAYLIGHT
TZOFFSETFROM:+0000
TZOFFSETTO:+0100
TZNAME:BST
DTSTART:20180325T020000Z
RRULE:FREQ=YEARLY;BYMONTH=3;BYDAY=-1SU
END:DAYLIGHT
BEGIN:STANDARD
TZOFFSETFROM:+0100
TZOFFSETTO:+0000
TZNAME:GMT
DTSTART:20181028T020000Z
RRULE:FREQ=YEARLY;BYMONTH=10;BYDAY=-1SU
END:STANDARD
END:VTIMEZONE
BEGIN:VEVENT
SUMMARY:Nostalgia Playdate
DTSTAMP:20180525T013058Z
SEQUENCE:0
UID:8-2-d9eb5664b0e4ff2cd69f600140862d4f@chaoticunited.net
ORGANIZER;CN="haloman30":noreply@chaoticunited.net
DESCRIPTION:\n	Today\, we will be doing an all-day nostalgia playdate! W
	e will be talking via TeamSpeak and playing on the Beta 1.7.3 server!\n
DTSTART;VALUE=DATE:20180525
END:VEVENT
END:VCALENDAR
