BEGIN:VCALENDAR
VERSION:2.0
PRODID:-//InvisionCommunity Events 4.7.10//EN
METHOD:PUBLISH
CALSCALE:GREGORIAN
REFRESH-INTERVAL:PT15M
X-PUBLISHED-TTL:PT15M
X-WR-CALNAME:NuclearDistrict&#039;s Calendar
NAME:NuclearDistrict&#039;s Calendar
BEGIN:VTIMEZONE
TZID:Europe/London
TZURL:http://tzurl.org/zoneinfo/Europe/London
X-LIC-LOCATION:Europe/London
BEGIN:DAYLIGHT
TZOFFSETFROM:+0000
TZOFFSETTO:+0100
TZNAME:BST
DTSTART:20110327T020000Z
RRULE:FREQ=YEARLY;BYMONTH=3;BYDAY=-1SU
END:DAYLIGHT
BEGIN:STANDARD
TZOFFSETFROM:+0100
TZOFFSETTO:+0000
TZNAME:GMT
DTSTART:20111030T020000Z
RRULE:FREQ=YEARLY;BYMONTH=10;BYDAY=-1SU
END:STANDARD
END:VTIMEZONE
BEGIN:VEVENT
SUMMARY:Chaotic United's Birthday
DTSTAMP:20160809T212929Z
SEQUENCE:0
UID:4-3-d9eb5664b0e4ff2cd69f600140862d4f@chaoticunited.net
ORGANIZER;CN="haloman30":noreply@chaoticunited.net
DESCRIPTION:\n	Happy birthday\, Chaotic United!\n\n	 \n
DTSTART;VALUE=DATE:20110426
RRULE:FREQ=YEARLY;INTERVAL=1
END:VEVENT
END:VCALENDAR
