BEGIN:VCALENDAR
VERSION:2.0
PRODID:-//InvisionCommunity Events 4.7.10//EN
METHOD:PUBLISH
CALSCALE:GREGORIAN
REFRESH-INTERVAL:PT15M
X-PUBLISHED-TTL:PT15M
X-WR-CALNAME:Community Calendar
NAME:Community Calendar
BEGIN:VTIMEZONE
TZID:Europe/London
TZURL:http://tzurl.org/zoneinfo/Europe/London
X-LIC-LOCATION:Europe/London
BEGIN:DAYLIGHT
TZOFFSETFROM:+0000
TZOFFSETTO:+0100
TZNAME:BST
DTSTART:20150329T020000Z
RRULE:FREQ=YEARLY;BYMONTH=3;BYDAY=-1SU
END:DAYLIGHT
BEGIN:STANDARD
TZOFFSETFROM:+0100
TZOFFSETTO:+0000
TZNAME:GMT
DTSTART:20151025T020000Z
RRULE:FREQ=YEARLY;BYMONTH=10;BYDAY=-1SU
END:STANDARD
END:VTIMEZONE
BEGIN:VEVENT
SUMMARY:Chaotic United's Anniversary
DTSTAMP:20150314T040213Z
SEQUENCE:1
UID:1-1-d9eb5664b0e4ff2cd69f600140862d4f@chaoticunited.net
ORGANIZER;CN="haloman30":noreply@chaoticunited.net
DESCRIPTION:\nThe yearly Anniversary for Chaotic United!\nFounded in 201
	1.\n
DTSTART;VALUE=DATE:20150426
RRULE:FREQ=yearly;INTERVAL=1;UNTIL=20150426T00000Z
END:VEVENT
END:VCALENDAR
