BEGIN:VCALENDAR
VERSION:2.0
PRODID:-//InvisionCommunity Events 4.7.10//EN
METHOD:PUBLISH
CALSCALE:GREGORIAN
REFRESH-INTERVAL:PT15M
X-PUBLISHED-TTL:PT15M
X-WR-CALNAME:ChaoticUnited&#039;s Calendar
NAME:ChaoticUnited&#039;s Calendar
BEGIN:VTIMEZONE
TZID:Europe/London
TZURL:http://tzurl.org/zoneinfo/Europe/London
X-LIC-LOCATION:Europe/London
BEGIN:DAYLIGHT
TZOFFSETFROM:+0000
TZOFFSETTO:+0100
TZNAME:BST
DTSTART:20120325T020000Z
RRULE:FREQ=YEARLY;BYMONTH=3;BYDAY=-1SU
END:DAYLIGHT
BEGIN:STANDARD
TZOFFSETFROM:+0100
TZOFFSETTO:+0000
TZNAME:GMT
DTSTART:20121028T020000Z
RRULE:FREQ=YEARLY;BYMONTH=10;BYDAY=-1SU
END:STANDARD
END:VTIMEZONE
BEGIN:VTIMEZONE
TZID:Europe/London
TZURL:http://tzurl.org/zoneinfo/Europe/London
X-LIC-LOCATION:Europe/London
BEGIN:DAYLIGHT
TZOFFSETFROM:+0000
TZOFFSETTO:+0100
TZNAME:BST
DTSTART:20160327T020000Z
RRULE:FREQ=YEARLY;BYMONTH=3;BYDAY=-1SU
END:DAYLIGHT
BEGIN:STANDARD
TZOFFSETFROM:+0100
TZOFFSETTO:+0000
TZNAME:GMT
DTSTART:20161030T020000Z
RRULE:FREQ=YEARLY;BYMONTH=10;BYDAY=-1SU
END:STANDARD
END:VTIMEZONE
BEGIN:VTIMEZONE
TZID:Europe/London
TZURL:http://tzurl.org/zoneinfo/Europe/London
X-LIC-LOCATION:Europe/London
BEGIN:DAYLIGHT
TZOFFSETFROM:+0000
TZOFFSETTO:+0100
TZNAME:BST
DTSTART:20180325T020000Z
RRULE:FREQ=YEARLY;BYMONTH=3;BYDAY=-1SU
END:DAYLIGHT
BEGIN:STANDARD
TZOFFSETFROM:+0100
TZOFFSETTO:+0000
TZNAME:GMT
DTSTART:20181028T020000Z
RRULE:FREQ=YEARLY;BYMONTH=10;BYDAY=-1SU
END:STANDARD
END:VTIMEZONE
BEGIN:VEVENT
SUMMARY:United AlyCraft's Birthday
DTSTAMP:20220219T054602Z
SEQUENCE:0
UID:10-2-d9eb5664b0e4ff2cd69f600140862d4f@chaoticunited.net
ORGANIZER;CN="haloman30":noreply@chaoticunited.net
DESCRIPTION:\n	The anniversary of United AlyCraft!\n\n
DTSTART;VALUE=DATE:20120829
RRULE:FREQ=YEARLY;INTERVAL=1
END:VEVENT
BEGIN:VEVENT
SUMMARY:Nuclear District Memorial
DTSTAMP:20160822T235058Z
SEQUENCE:0
UID:6-2-d9eb5664b0e4ff2cd69f600140862d4f@chaoticunited.net
ORGANIZER;CN="haloman30":noreply@chaoticunited.net
DESCRIPTION:\n\n	On this day in 2016\, Nuclear District said it's goodby
	e. This day shall forever be dedicated in memory to that epic community an
	d its awesome team\n\n\n\n	 \n\n\n\n	 \n\n\n\n	\n		Spoiler\n	\n\n	\n		\n
				About two and a half years ago we set out to build a new gaming communi
	ty\, one that would be a fresh start from Chaotic United. We had a very op
	timistic vision\, one involving a small but close-knit playerbase that cam
	e together and shared their experiences on our self-hosted game servers. D
	espite the challenges that we faced\, we managed to set up a friendly envi
	ronment that we hope many enjoyed. You\, the community\, have played count
	less hours on our servers. We appreciate all of you who shared this experi
	ence with us\, from those that loyally stuck with our group from Chaotic U
	nited\, to the eager newcomers who joined Nuclear District.\n		\n\n		\n			
	 \n		\n\n		\n			All of us\, the administration team and community members
	\, have poured our hearts and souls into Chaotic United and Nuclear Distri
	ct. However\, the spark that once was is dwindling. It is with enormous re
	gret that we announce that Nuclear District will be closing its doors and 
	saying goodbye. We know that many have moved on in their busy lives\, and 
	we wish each and every one of you the greatest success in all of your ende
	avors going forward. It has been a pleasure and an honor to work with you 
	to push this vision forward. Through this journey we have gotten to know m
	any new people\, and we hope you all stay in touch.\n		\n\n		\n			 \n		\n
	\n		\n			For that purpose\, we have set up a Discord server for those who 
	wish to remain in contact with the community and its staff. Our aim is to 
	set up a simple\, independent platform for everyone to communicate and gam
	e. Currently\, a handful of us are using Discord to play games such as Roc
	ket League and Brawlhalla. We hope that many of you join us. We are lookin
	g forward to finding new games and people to play them with.\n		\n\n		\n		
		 \n		\n\n		\n			If you wish to join us on Discord\, please follow this l
	ink or click the image below for an instant invite. Discord is a super sim
	ple platform to get accustomed to\, it offers both text and voice function
	ality.\n		\n\n		\n			 \n		\n\n		\n			Nuclear District was founded on the 
	7th of February\, 2014. This page is dedicated to our final closure. Pleas
	e rest assured that we are taking the appropriate steps to ensure that all
	 encrypted login and personal information are erased. The Nuclear District
	 domain will be transfered to Haloman\, the owner of Chaotic United.\n		\n
	\n		\n			Once again thank you\, and good luck in your futures\, inside and
	 outside of the gaming world.\n		\n\n		\n			 \n		\n\n		\n			Sincerely\, 
	\n		\n\n		\n			\n\n			The Nuclear District Team: \n\n			Adam\, Alex\, Nik
	hil\, Ryan\n		\n	\n\n\n\n	 \n\n\n\n	NuclearDistrict Team\n\n\n\n\n	 \n\n
	\n\n	Atomicbeast101\, Alex\, Nik\, ntx2\, Falkerz\, Bobbie_\, LaughedSnail
	\, Spencer\, KooladeCaprisun\, 16dbaxter\, ZacSkitlez\, Kendev\, Em_Aru\, 
	DrummerWiz\, ilovecars333\n\n
DTSTART;VALUE=DATE:20160821
RRULE:FREQ=YEARLY;INTERVAL=1
END:VEVENT
BEGIN:VEVENT
SUMMARY:Nostalgia Playdate
DTSTAMP:20180525T013058Z
SEQUENCE:0
UID:8-2-d9eb5664b0e4ff2cd69f600140862d4f@chaoticunited.net
ORGANIZER;CN="haloman30":noreply@chaoticunited.net
DESCRIPTION:\n	Today\, we will be doing an all-day nostalgia playdate! W
	e will be talking via TeamSpeak and playing on the Beta 1.7.3 server!\n
DTSTART;VALUE=DATE:20180525
END:VEVENT
END:VCALENDAR
